{"text_format":"1","workbook":"xlsx","n_sheets":3,"sheets":["Tabelle1","Tabelle2","Tabelle3"],"not_rendered":{"charts":0,"images":0,"macros":1,"external_links":0,"defined_names":0,"comments":0,"pivot_tables":0},"unopened":[],"bounds":{"document_bytes":16777216,"sheet_cells":100000,"rows_first":2000,"rows_last":500,"rows_between":2000,"halvings":0,"cell_chars":16384,"cell_head_chars":4096},"cells_cut":0,"cells_raw":0,"read":"whole","date_system":"1900"}

{"sheet":"Tabelle1","index":0,"n_rows":32,"n_cols":18,"rows_kept":32,"cut":false,"hidden":false,"merged":[[2,3,2,4],[31,1,31,4]]}
[]
[]
[null,null,null,"Abweichung Formel",null,"Faktor"]
[null,"Sollfrequenz ",50,-100,100,0.01,null,1,2,3,4,5,6,7,8,9,10,11]
[null,"Untere Frequenz",{"$f":"C4-C9","v":49},null,null,null,1,50.600301504135132,50.020926047282551,50.02198781583612,50.023327443107547,50.024778583121474,50.026118046574965,50.027259046728986,50.028019713498338,50.33425509929657,50.028526824677904,50.028526824677904]
[null,"Obere Frequenz",{"$f":"C4+C9","v":51},null,null,null,2,50.018203365945546,50.019005074957853,50.020036063570885,50.021178268199122,50.021606668948152,50.021670223445419,50.021564562442215,50.021494121773415,50.021447161327536,50.021447161327536,50.021447161327536]
[null,null,null,null,null,null,3,50.160974130492292,50.11351489782232,50.081786697603228,50.060342491173998,50.045696350409152,50.035698921135683,50.028878411333217,50.024331404798232,50.02130006710825,50.02130006710825,50.02130006710825]
[null,null,null,null,null,null,4,50.082398646282826,50.069334242434138,50.057189088077472,50.056296441961344,50.050801473807319,50.043871581209125,50.037073932479984,50.032542166660555,50.029520989447605,50.029520989447605,50.029520989447605]
[null,"Zulässige Abweichung",1,null,null,null,5,50.048952203513153,50.047975769494641,50.046699424367553,50.044196629565896,50.040603519682108,50.036925059748917,50.03361738423078,50.031412267218698,50.02994218921063,50.02994218921063,50.02994218921063]
[null,null,null,null,null,null,6,50.035189173650295,50.035049880731691,50.03423067456864,50.032851447099176,50.03114399506844,50.029480382347202,50.028021099621455,50.027048244470954,50.026399674370616,50.026399674370616,50.026399674370616]
[null,"Matrix Zelle oben links","$H$5",null,null,null,7,50.026407327469997,50.026142538181666,50.025606914314857,50.024881607807977,50.024066703864563,50.023302523720844,50.022645796392943,50.02220797817435,50.021916099361952,50.021916099361952,50.021916099361952]
[null,"Matrix Zelle unten rechts","$R$30",null,null,null,8,50.016364143453089,50.01615698898518,50.012598855779288,50.011413553309836,50.011426692912046,50.011971013479204,50.012690934412205,50.013170881700873,50.013490846559989,50.013490846559989,50.013490846559989]
[null,"Matrix Breite",11,null,null,null,9,50.008331344691491,50.0068189617526,50.005924387873051,50.005677123204826,50.005927245577737,50.006370637483052,50.006850661191066,50.007170676996417,50.007384020866645,50.007384020866645,50.007384020866645]
[null,"Matrix Höhe",26," ",null,null,10,50.003992920930031,50.003499455321467,50.00324883756187,50.003229238450963,50.003377985209795,50.003585024937529,50.003794968237258,50.003934930437076,50.004028238570285,50.004028238570285,50.004028238570285]
[null,"Anzahl Zellen",{"$f":"C13*C14","v":286},null,null,null,11,50.002946495502336,50.002755508351498,50.002633323307386,50.002580408271882,50.002580902807559,50.002605079982033,50.002637096421026,50.002658440713695,50.002672670242134,50.002672670242134,50.002672670242134]
[null,null,null,null,null,null,12,50.003156898113247,50.00301068605318,50.002868656460826,50.002742006965477,50.002634758672762,50.002548049613708,50.002480103442871,50.002434805995641,50.002404607697478,50.002404607697478,50.002404607697478]
[null,"Anz. Zufäl. Fehler",2,null,null,null,13,50.00350580100865,50.003355508126241,50.003187583741138,50.003018458869533,50.002859577082027,50.002722901308296,50.002611281071104,50.002536867579636,50.002487258585326,50.002487258585326,50.002487258585326]
[null,"Achtung: Durch die zufälligen Fehler entstehen weitere Fehler!",null,null,null,null,14,50.007054864278999,50.006875366842557,50.006494223014336,50.005988079501087,50.005430799819948,50.004912712917658,50.004469610239546,50.004174208454138,50.003977273930531,50.003977273930531,50.003977273930531]
[null,null,null,null," ",null,15,50.016928296520838,50.018807261688536,50.018183785389077,50.016429227273903,50.014308143196232,50.012259834699393,50.010471460738145,50.009279211430652,50.008484378558983,50.008484378558983,50.008484378558983]
[null,null,null,null,null,null,16,50.013779019767014,50.014751553613408,50.014867019462237,50.014309885498307,50.013329821282028,50.012270684088733,50.011294085260459,50.010643019374953,50.010208975451278,50.010208975451278,50.010208975451278]
[null,null," ",null,null,null,17,49.910278889048833,49.94401073906694,49.966327833126471,49.980978365518304,49.990517927116855,49.996725994851893,50.000763613343693,50.003455359004903,50.005249856112364,50.005249856112364,50.005249856112364]
[null,null,null,null,null,null,18,49.958857844345417,49.968145794869251,49.976540464090384,49.983581198675687,49.989221760891859,49.993613295142175,49.99696175760208,49.999194065908689,50.000682271446429,50.000682271446429,50.000682271446429]
[null,null,null,null,null,null,19,49.97533095711448,49.9790356764424,49.982856896750739,49.986464020860275,49.989681003283934,50.982477188110352,49.994518901781539,49.995953405028416,49.996909740526334,49.996909740526334,49.996909740526334]
[null,null,null,null,null,null,20,49.981176249989417,49.9830302780734,49.985086328825091,49.987145266412973,49.98907108224099,49.99072375330595,49.992071396580116,49.992969825429562,49.993568777995854,49.993568777995854,49.993568777995854]
[null,"Abbrechen mit ESC Taste",null,null,null,null,21,49.982883053369804,49.983975239322611,49.98522799955218,49.986514648620073,49.987741210435772,49.98880478215986,49.989677739207231,49.99025971057214,49.990647691482081,49.990647691482081,49.990647691482081]
[null," ",null,null,null,null,22,49.982840373890852,49.983576197444393,49.984431572407033,49.985318594995391,49.986170162015583,49.986911352447663,49.987521132125913,49.987927651911406,49.988198665101741,49.988198665101741,49.988198665101741]
[null,"S",null,null,null,null,23,49.982759008450486,49.983279883436161,49.983888100154118,49.984520824064042,49.985129649589027,49.985660206329058,50.50925886631012,49.986388239436522,49.98658238159851,49.98658238159851,49.98658238159851]
[null," ",null,null,null,null,24,49.982554308072366,49.982966134088215,50.005118388282035,49.998396317011853,49.994063510235932,49.991274021765911,49.989480395706281,49.988284644999858,49.987487477862246,49.987487477862246,49.987487477862246]
[null,null,null,null,null,null,25,49.990212943480863,49.992940734657857,49.99331499318388,49.992634669377885,49.991583244820681,49.990483711547078,49.989484966985465,49.988819137277723,49.988375250805895,49.988375250805895,49.988375250805895]
[null,"Mittlere Netzfrequenz",50.011610701010405,null,null,null,26,49.990212943480863,49.992940734657857,49.99331499318388,49.992634669377885,49.991583244820681,49.990483711547078,49.989484966985465,49.988819137277723,49.988375250805895,49.988375250805895,49.988375250805895]
[]
[null,"Erkenntnis: Die mittlere Frequenz ist unabhängig von der Anzahl Schwankungen, sondern davon, wie diese Schwankungen verteilt sind, also ob mehr tiefe oder mehr hohe Frequenzen vorhanden sind. Wenn der Mittelwert der Abweichungen nahe der Sollfrequenz liegt, dann haben die Abweichungen für die mittlere Gesamtfrequenz keine bzw. nur geringe Bedeutung!"]

{"sheet":"Tabelle2","index":1,"n_rows":30,"n_cols":18,"rows_kept":30,"cut":false,"hidden":false,"merged":[]}
[]
[]
[]
[null,null,null,null,3,5,5,5,5,5,5,5,5,5,3]
[null,null,null,null,{"$f":"Tabelle1!H5","v":50.600301504135132},{"$f":"Tabelle1!I5","v":50.020926047282551},{"$f":"Tabelle1!J5","v":50.02198781583612},{"$f":"Tabelle1!K5","v":50.023327443107547},{"$f":"Tabelle1!L5","v":50.024778583121474},{"$f":"Tabelle1!M5","v":50.026118046574965},{"$f":"Tabelle1!N5","v":50.027259046728986},{"$f":"Tabelle1!O5","v":50.028019713498338},{"$f":"Tabelle1!P5","v":50.33425509929657},{"$f":"Tabelle1!Q5","v":50.028526824677904},{"$f":"Tabelle1!R5","v":50.028526824677904},3]
[null,null,null,null,{"$f":"Tabelle1!H6","v":50.018203365945546},{"$f":"Tabelle1!I6","v":50.019005074957853},{"$f":"Tabelle1!J6","v":50.020036063570885},{"$f":"Tabelle1!K6","v":50.021178268199122},{"$f":"Tabelle1!L6","v":50.021606668948152},{"$f":"Tabelle1!M6","v":50.021670223445419},{"$f":"Tabelle1!N6","v":50.021564562442215},{"$f":"Tabelle1!O6","v":50.021494121773415},{"$f":"Tabelle1!P6","v":50.021447161327536},{"$f":"Tabelle1!Q6","v":50.021447161327536},{"$f":"Tabelle1!R6","v":50.021447161327536},5,null,8]
[null,null,null,null,{"$f":"Tabelle1!H7","v":50.160974130492292},{"$f":"Tabelle1!I7","v":50.11351489782232},{"$f":"Tabelle1!J7","v":50.081786697603228},{"$f":"Tabelle1!K7","v":50.060342491173998},{"$f":"Tabelle1!L7","v":50.045696350409152},{"$f":"Tabelle1!M7","v":50.035698921135683},{"$f":"Tabelle1!N7","v":50.028878411333217},{"$f":"Tabelle1!O7","v":50.024331404798232},{"$f":"Tabelle1!P7","v":50.02130006710825},{"$f":"Tabelle1!Q7","v":50.02130006710825},{"$f":"Tabelle1!R7","v":50.02130006710825},5,null,8]
[null,null,null,null,{"$f":"Tabelle1!H8","v":50.082398646282826},{"$f":"Tabelle1!I8","v":50.069334242434138},{"$f":"Tabelle1!J8","v":50.057189088077472},{"$f":"Tabelle1!K8","v":50.056296441961344},{"$f":"Tabelle1!L8","v":50.050801473807319},{"$f":"Tabelle1!M8","v":50.043871581209125},{"$f":"Tabelle1!N8","v":50.037073932479984},{"$f":"Tabelle1!O8","v":50.032542166660555},{"$f":"Tabelle1!P8","v":50.029520989447605},{"$f":"Tabelle1!Q8","v":50.029520989447605},{"$f":"Tabelle1!R8","v":50.029520989447605},5,null,8]
[null,null,null,null,{"$f":"Tabelle1!H9","v":50.048952203513153},{"$f":"Tabelle1!I9","v":50.047975769494641},{"$f":"Tabelle1!J9","v":50.046699424367553},{"$f":"Tabelle1!K9","v":50.044196629565896},{"$f":"Tabelle1!L9","v":50.040603519682108},{"$f":"Tabelle1!M9","v":50.036925059748917},{"$f":"Tabelle1!N9","v":50.03361738423078},{"$f":"Tabelle1!O9","v":50.031412267218698},{"$f":"Tabelle1!P9","v":50.02994218921063},{"$f":"Tabelle1!Q9","v":50.02994218921063},{"$f":"Tabelle1!R9","v":50.02994218921063},5,null,8]
[null,null,null,null,{"$f":"Tabelle1!H10","v":50.035189173650295},{"$f":"Tabelle1!I10","v":50.035049880731691},{"$f":"Tabelle1!J10","v":50.03423067456864},{"$f":"Tabelle1!K10","v":50.032851447099176},{"$f":"Tabelle1!L10","v":50.03114399506844},{"$f":"Tabelle1!M10","v":50.029480382347202},{"$f":"Tabelle1!N10","v":50.028021099621455},{"$f":"Tabelle1!O10","v":50.027048244470954},{"$f":"Tabelle1!P10","v":50.026399674370616},{"$f":"Tabelle1!Q10","v":50.026399674370616},{"$f":"Tabelle1!R10","v":50.026399674370616},5,null,8]
[null,null,null,null,{"$f":"Tabelle1!H11","v":50.026407327469997},{"$f":"Tabelle1!I11","v":50.026142538181666},{"$f":"Tabelle1!J11","v":50.025606914314857},{"$f":"Tabelle1!K11","v":50.024881607807977},{"$f":"Tabelle1!L11","v":50.024066703864563},{"$f":"Tabelle1!M11","v":50.023302523720844},{"$f":"Tabelle1!N11","v":50.022645796392943},{"$f":"Tabelle1!O11","v":50.02220797817435},{"$f":"Tabelle1!P11","v":50.021916099361952},{"$f":"Tabelle1!Q11","v":50.021916099361952},{"$f":"Tabelle1!R11","v":50.021916099361952},5,null,8]
[null,null,null,null,{"$f":"Tabelle1!H12","v":50.016364143453089},{"$f":"Tabelle1!I12","v":50.01615698898518},{"$f":"Tabelle1!J12","v":50.012598855779288},{"$f":"Tabelle1!K12","v":50.011413553309836},{"$f":"Tabelle1!L12","v":50.011426692912046},{"$f":"Tabelle1!M12","v":50.011971013479204},{"$f":"Tabelle1!N12","v":50.012690934412205},{"$f":"Tabelle1!O12","v":50.013170881700873},{"$f":"Tabelle1!P12","v":50.013490846559989},{"$f":"Tabelle1!Q12","v":50.013490846559989},{"$f":"Tabelle1!R12","v":50.013490846559989},5,null,8]
[null,null,null,null,{"$f":"Tabelle1!H13","v":50.008331344691491},{"$f":"Tabelle1!I13","v":50.0068189617526},{"$f":"Tabelle1!J13","v":50.005924387873051},{"$f":"Tabelle1!K13","v":50.005677123204826},{"$f":"Tabelle1!L13","v":50.005927245577737},{"$f":"Tabelle1!M13","v":50.006370637483052},{"$f":"Tabelle1!N13","v":50.006850661191066},{"$f":"Tabelle1!O13","v":50.007170676996417},{"$f":"Tabelle1!P13","v":50.007384020866645},{"$f":"Tabelle1!Q13","v":50.007384020866645},{"$f":"Tabelle1!R13","v":50.007384020866645},5,null,8]
[null,null,null,null,{"$f":"Tabelle1!H14","v":50.003992920930031},{"$f":"Tabelle1!I14","v":50.003499455321467},{"$f":"Tabelle1!J14","v":50.00324883756187},{"$f":"Tabelle1!K14","v":50.003229238450963},{"$f":"Tabelle1!L14","v":50.003377985209795},{"$f":"Tabelle1!M14","v":50.003585024937529},{"$f":"Tabelle1!N14","v":50.003794968237258},{"$f":"Tabelle1!O14","v":50.003934930437076},{"$f":"Tabelle1!P14","v":50.004028238570285},{"$f":"Tabelle1!Q14","v":50.004028238570285},{"$f":"Tabelle1!R14","v":50.004028238570285},5,null,8]
[null,null,null,null,{"$f":"Tabelle1!H15","v":50.002946495502336},{"$f":"Tabelle1!I15","v":50.002755508351498},{"$f":"Tabelle1!J15","v":50.002633323307386},{"$f":"Tabelle1!K15","v":50.002580408271882},{"$f":"Tabelle1!L15","v":50.002580902807559},{"$f":"Tabelle1!M15","v":50.002605079982033},{"$f":"Tabelle1!N15","v":50.002637096421026},{"$f":"Tabelle1!O15","v":50.002658440713695},{"$f":"Tabelle1!P15","v":50.002672670242134},{"$f":"Tabelle1!Q15","v":50.002672670242134},{"$f":"Tabelle1!R15","v":50.002672670242134},5,null,8]
[null,null,null,null,{"$f":"Tabelle1!H16","v":50.003156898113247},{"$f":"Tabelle1!I16","v":50.00301068605318},{"$f":"Tabelle1!J16","v":50.002868656460826},{"$f":"Tabelle1!K16","v":50.002742006965477},{"$f":"Tabelle1!L16","v":50.002634758672762},{"$f":"Tabelle1!M16","v":50.002548049613708},{"$f":"Tabelle1!N16","v":50.002480103442871},{"$f":"Tabelle1!O16","v":50.002434805995641},{"$f":"Tabelle1!P16","v":50.002404607697478},{"$f":"Tabelle1!Q16","v":50.002404607697478},{"$f":"Tabelle1!R16","v":50.002404607697478},5,null,8]
[null,null,null,null,{"$f":"Tabelle1!H17","v":50.00350580100865},{"$f":"Tabelle1!I17","v":50.003355508126241},{"$f":"Tabelle1!J17","v":50.003187583741138},{"$f":"Tabelle1!K17","v":50.003018458869533},{"$f":"Tabelle1!L17","v":50.002859577082027},{"$f":"Tabelle1!M17","v":50.002722901308296},{"$f":"Tabelle1!N17","v":50.002611281071104},{"$f":"Tabelle1!O17","v":50.002536867579636},{"$f":"Tabelle1!P17","v":50.002487258585326},{"$f":"Tabelle1!Q17","v":50.002487258585326},{"$f":"Tabelle1!R17","v":50.002487258585326},5,null,8]
[null,null,null,null,{"$f":"Tabelle1!H18","v":50.007054864278999},{"$f":"Tabelle1!I18","v":50.006875366842557},{"$f":"Tabelle1!J18","v":50.006494223014336},{"$f":"Tabelle1!K18","v":50.005988079501087},{"$f":"Tabelle1!L18","v":50.005430799819948},{"$f":"Tabelle1!M18","v":50.004912712917658},{"$f":"Tabelle1!N18","v":50.004469610239546},{"$f":"Tabelle1!O18","v":50.004174208454138},{"$f":"Tabelle1!P18","v":50.003977273930531},{"$f":"Tabelle1!Q18","v":50.003977273930531},{"$f":"Tabelle1!R18","v":50.003977273930531},5,null,8]
[null,null,null,null,{"$f":"Tabelle1!H19","v":50.016928296520838},{"$f":"Tabelle1!I19","v":50.018807261688536},{"$f":"Tabelle1!J19","v":50.018183785389077},{"$f":"Tabelle1!K19","v":50.016429227273903},{"$f":"Tabelle1!L19","v":50.014308143196232},{"$f":"Tabelle1!M19","v":50.012259834699393},{"$f":"Tabelle1!N19","v":50.010471460738145},{"$f":"Tabelle1!O19","v":50.009279211430652},{"$f":"Tabelle1!P19","v":50.008484378558983},{"$f":"Tabelle1!Q19","v":50.008484378558983},{"$f":"Tabelle1!R19","v":50.008484378558983},5,null,8]
[null,null,null,null,{"$f":"Tabelle1!H20","v":50.013779019767014},{"$f":"Tabelle1!I20","v":50.014751553613408},{"$f":"Tabelle1!J20","v":50.014867019462237},{"$f":"Tabelle1!K20","v":50.014309885498307},{"$f":"Tabelle1!L20","v":50.013329821282028},{"$f":"Tabelle1!M20","v":50.012270684088733},{"$f":"Tabelle1!N20","v":50.011294085260459},{"$f":"Tabelle1!O20","v":50.010643019374953},{"$f":"Tabelle1!P20","v":50.010208975451278},{"$f":"Tabelle1!Q20","v":50.010208975451278},{"$f":"Tabelle1!R20","v":50.010208975451278},5,null,8]
[null,null,null,null,{"$f":"Tabelle1!H21","v":49.910278889048833},{"$f":"Tabelle1!I21","v":49.94401073906694},{"$f":"Tabelle1!J21","v":49.966327833126471},{"$f":"Tabelle1!K21","v":49.980978365518304},{"$f":"Tabelle1!L21","v":49.990517927116855},{"$f":"Tabelle1!M21","v":49.996725994851893},{"$f":"Tabelle1!N21","v":50.000763613343693},{"$f":"Tabelle1!O21","v":50.003455359004903},{"$f":"Tabelle1!P21","v":50.005249856112364},{"$f":"Tabelle1!Q21","v":50.005249856112364},{"$f":"Tabelle1!R21","v":50.005249856112364},5,null,8]
[null,null,null,null,{"$f":"Tabelle1!H22","v":49.958857844345417},{"$f":"Tabelle1!I22","v":49.968145794869251},{"$f":"Tabelle1!J22","v":49.976540464090384},{"$f":"Tabelle1!K22","v":49.983581198675687},{"$f":"Tabelle1!L22","v":49.989221760891859},{"$f":"Tabelle1!M22","v":49.993613295142175},{"$f":"Tabelle1!N22","v":49.99696175760208},{"$f":"Tabelle1!O22","v":49.999194065908689},{"$f":"Tabelle1!P22","v":50.000682271446429},{"$f":"Tabelle1!Q22","v":50.000682271446429},{"$f":"Tabelle1!R22","v":50.000682271446429},5,null,8]
[null,null,null,null,{"$f":"Tabelle1!H23","v":49.97533095711448},{"$f":"Tabelle1!I23","v":49.9790356764424},{"$f":"Tabelle1!J23","v":49.982856896750739},{"$f":"Tabelle1!K23","v":49.986464020860275},{"$f":"Tabelle1!L23","v":49.989681003283934},{"$f":"Tabelle1!M23","v":50.982477188110352},{"$f":"Tabelle1!N23","v":49.994518901781539},{"$f":"Tabelle1!O23","v":49.995953405028416},{"$f":"Tabelle1!P23","v":49.996909740526334},{"$f":"Tabelle1!Q23","v":49.996909740526334},{"$f":"Tabelle1!R23","v":49.996909740526334},5,null,8]
[null,null,null,null,{"$f":"Tabelle1!H24","v":49.981176249989417},{"$f":"Tabelle1!I24","v":49.9830302780734},{"$f":"Tabelle1!J24","v":49.985086328825091},{"$f":"Tabelle1!K24","v":49.987145266412973},{"$f":"Tabelle1!L24","v":49.98907108224099},{"$f":"Tabelle1!M24","v":49.99072375330595},{"$f":"Tabelle1!N24","v":49.992071396580116},{"$f":"Tabelle1!O24","v":49.992969825429562},{"$f":"Tabelle1!P24","v":49.993568777995854},{"$f":"Tabelle1!Q24","v":49.993568777995854},{"$f":"Tabelle1!R24","v":49.993568777995854},5,null,8]
[null,null,null,null,{"$f":"Tabelle1!H25","v":49.982883053369804},{"$f":"Tabelle1!I25","v":49.983975239322611},{"$f":"Tabelle1!J25","v":49.98522799955218},{"$f":"Tabelle1!K25","v":49.986514648620073},{"$f":"Tabelle1!L25","v":49.987741210435772},{"$f":"Tabelle1!M25","v":49.98880478215986},{"$f":"Tabelle1!N25","v":49.989677739207231},{"$f":"Tabelle1!O25","v":49.99025971057214},{"$f":"Tabelle1!P25","v":49.990647691482081},{"$f":"Tabelle1!Q25","v":49.990647691482081},{"$f":"Tabelle1!R25","v":49.990647691482081},5,null,8]
[null,null,null,null,{"$f":"Tabelle1!H26","v":49.982840373890852},{"$f":"Tabelle1!I26","v":49.983576197444393},{"$f":"Tabelle1!J26","v":49.984431572407033},{"$f":"Tabelle1!K26","v":49.985318594995391},{"$f":"Tabelle1!L26","v":49.986170162015583},{"$f":"Tabelle1!M26","v":49.986911352447663},{"$f":"Tabelle1!N26","v":49.987521132125913},{"$f":"Tabelle1!O26","v":49.987927651911406},{"$f":"Tabelle1!P26","v":49.988198665101741},{"$f":"Tabelle1!Q26","v":49.988198665101741},{"$f":"Tabelle1!R26","v":49.988198665101741},5,null,8]
[null,null,null,null,{"$f":"Tabelle1!H27","v":49.982759008450486},{"$f":"Tabelle1!I27","v":49.983279883436161},{"$f":"Tabelle1!J27","v":49.983888100154118},{"$f":"Tabelle1!K27","v":49.984520824064042},{"$f":"Tabelle1!L27","v":49.985129649589027},{"$f":"Tabelle1!M27","v":49.985660206329058},{"$f":"Tabelle1!N27","v":50.50925886631012},{"$f":"Tabelle1!O27","v":49.986388239436522},{"$f":"Tabelle1!P27","v":49.98658238159851},{"$f":"Tabelle1!Q27","v":49.98658238159851},{"$f":"Tabelle1!R27","v":49.98658238159851},5,null,8]
[null,null,null,null,{"$f":"Tabelle1!H28","v":49.982554308072366},{"$f":"Tabelle1!I28","v":49.982966134088215},{"$f":"Tabelle1!J28","v":50.005118388282035},{"$f":"Tabelle1!K28","v":49.998396317011853},{"$f":"Tabelle1!L28","v":49.994063510235932},{"$f":"Tabelle1!M28","v":49.991274021765911},{"$f":"Tabelle1!N28","v":49.989480395706281},{"$f":"Tabelle1!O28","v":49.988284644999858},{"$f":"Tabelle1!P28","v":49.987487477862246},{"$f":"Tabelle1!Q28","v":49.987487477862246},{"$f":"Tabelle1!R28","v":49.987487477862246},5,null,8]
[null,null,null,null,{"$f":"Tabelle1!H29","v":49.990212943480863},{"$f":"Tabelle1!I29","v":49.992940734657857},{"$f":"Tabelle1!J29","v":49.99331499318388},{"$f":"Tabelle1!K29","v":49.992634669377885},{"$f":"Tabelle1!L29","v":49.991583244820681},{"$f":"Tabelle1!M29","v":49.990483711547078},{"$f":"Tabelle1!N29","v":49.989484966985465},{"$f":"Tabelle1!O29","v":49.988819137277723},{"$f":"Tabelle1!P29","v":49.988375250805895},{"$f":"Tabelle1!Q29","v":49.988375250805895},{"$f":"Tabelle1!R29","v":49.988375250805895},5,null,8]
[null,null,null,null,{"$f":"Tabelle1!H30","v":49.990212943480863},{"$f":"Tabelle1!I30","v":49.992940734657857},{"$f":"Tabelle1!J30","v":49.99331499318388},{"$f":"Tabelle1!K30","v":49.992634669377885},{"$f":"Tabelle1!L30","v":49.991583244820681},{"$f":"Tabelle1!M30","v":49.990483711547078},{"$f":"Tabelle1!N30","v":49.989484966985465},{"$f":"Tabelle1!O30","v":49.988819137277723},{"$f":"Tabelle1!P30","v":49.988375250805895},{"$f":"Tabelle1!Q30","v":49.988375250805895},{"$f":"Tabelle1!R30","v":49.988375250805895},3]

{"sheet":"Tabelle3","index":2,"n_rows":0,"n_cols":0,"rows_kept":0,"cut":false,"hidden":false,"merged":[]}